BEGIN:VCALENDAR
VERSION:2.0
PRODID:-//85.13.130.174//NONSGML kigkonsult.se iCalcreator 2.20//
CALSCALE:GREGORIAN
METHOD:PUBLISH
X-WR-TIMEZONE:Europe/Berlin
BEGIN:VEVENT
UID:event515@Evangelische Kirchengemeinde Buchen (Odenwald)
DTSTAMP:20260424T152410Z
CATEGORIES:Gottesdienste
DESCRIPTION:Konfirmation\nKategorie: Gottesdienste\nICS-Link: https://www.e
 vkibu.de/index.php?option=com_jem&view=event&id=515:konfirmationsgottesdie
 nst\n
DTSTART;TZID=Europe/Berlin:20260426T100000
DTEND;TZID=Europe/Berlin:20260426T100000
LOCATION:Christuskirche Buchen\,Am Rühlingshof 3\,74722 Buchen\,Germany
SUMMARY:Konfirmation
URL:https://www.evkibu.de/index.php?option=com_jem&view=event&id=515:konfir
 mationsgottesdienst
END:VEVENT
BEGIN:VEVENT
UID:event516@Evangelische Kirchengemeinde Buchen (Odenwald)
DTSTAMP:20260424T152410Z
CATEGORIES:Gottesdienste
DESCRIPTION:Gottesdienst mit Kirchencafé\nKategorie: Gottesdienste\nICS-Lin
 k: https://www.evkibu.de/index.php?option=com_jem&view=event&id=516:gottes
 dienst-mit-kirchencafé\n
DTSTART;TZID=Europe/Berlin:20260503T103000
DTEND;TZID=Europe/Berlin:20260503T103000
LOCATION:Christuskirche Buchen\,Am Rühlingshof 3\,74722 Buchen\,Germany
SUMMARY:Gottesdienst mit Kirchencafé
END:VEVENT
BEGIN:VEVENT
UID:event517@Evangelische Kirchengemeinde Buchen (Odenwald)
DTSTAMP:20260424T152410Z
CATEGORIES:Gottesdienste
DESCRIPTION:Konfirmation\nKategorie: Gottesdienste\nICS-Link: https://www.e
 vkibu.de/index.php?option=com_jem&view=event&id=517:konfirmation\n
DTSTART;TZID=Europe/Berlin:20260510T100000
DTEND;TZID=Europe/Berlin:20260510T100000
LOCATION:Christuskirche Buchen\,Am Rühlingshof 3\,74722 Buchen\,Germany
SUMMARY:Konfirmation
URL:https://www.evkibu.de/index.php?option=com_jem&view=event&id=517:konfir
 mation
END:VEVENT
BEGIN:VEVENT
UID:event518@Evangelische Kirchengemeinde Buchen (Odenwald)
DTSTAMP:20260424T152410Z
CATEGORIES:Gottesdienste
DESCRIPTION:Gottesdienst\nKategorie: Gottesdienste\nICS-Link: https://www.e
 vkibu.de/index.php?option=com_jem&view=event&id=518:gottesdienst\n
DTSTART;TZID=Europe/Berlin:20260517T103000
DTEND;TZID=Europe/Berlin:20260517T103000
LOCATION:Christuskirche Buchen\,Am Rühlingshof 3\,74722 Buchen\,Germany
SUMMARY:Gottesdienst
URL:https://www.evkibu.de/index.php?option=com_jem&view=event&id=518:gottes
 dienst
END:VEVENT
BEGIN:VEVENT
UID:event498@Evangelische Kirchengemeinde Buchen (Odenwald)
DTSTAMP:20260424T152410Z
CATEGORIES:Zwergengottesdienst
DESCRIPTION:Familiengottesdienst mit Mila Maus\nKategorie: Zwergengottesdie
 nst\nICS-Link: https://www.evkibu.de/index.php?option=com_jem&view=event&i
 d=498:familiengottesdienst-mit-mila-maus\n
DTSTART;TZID=Europe/Berlin:20260523T110000
DTEND;TZID=Europe/Berlin:20260523T110000
LOCATION:Christuskirche Buchen\,Am Rühlingshof 3\,74722 Buchen\,Germany
SUMMARY:Familiengottesdienst mit Mila Maus
URL:https://www.evkibu.de/index.php?option=com_jem&view=event&id=498:famili
 engottesdienst-mit-mila-maus
END:VEVENT
BEGIN:VEVENT
UID:event519@Evangelische Kirchengemeinde Buchen (Odenwald)
DTSTAMP:20260424T152410Z
CATEGORIES:Gottesdienste
DESCRIPTION:Pfingstgottesdienst\nKategorie: Gottesdienste\nICS-Link: https:
 //www.evkibu.de/index.php?option=com_jem&view=event&id=519:pfingstgottesdi
 enst\n
DTSTART;TZID=Europe/Berlin:20260524T103000
DTEND;TZID=Europe/Berlin:20260524T103000
LOCATION:Christuskirche Buchen\,Am Rühlingshof 3\,74722 Buchen\,Germany
SUMMARY:Pfingstgottesdienst
URL:https://www.evkibu.de/index.php?option=com_jem&view=event&id=519:pfings
 tgottesdienst
END:VEVENT
BEGIN:VEVENT
UID:event520@Evangelische Kirchengemeinde Buchen (Odenwald)
DTSTAMP:20260424T152410Z
CATEGORIES:Gottesdienste
DESCRIPTION:Ökum. Gottesdienst des ACK\nKategorie: Gottesdienste\nICS-Link:
  https://www.evkibu.de/index.php?option=com_jem&view=event&id=520:ökum-got
 tesdienst-des-ack\n
DTSTART;TZID=Europe/Berlin:20260525T103000
DTEND;TZID=Europe/Berlin:20260525T103000
LOCATION:Neuapostolische Kirche\,Brünnerstr. 26\,74722 Buchen\,Germany
SUMMARY:Ökum. Gottesdienst des ACK
END:VEVENT
BEGIN:VEVENT
UID:event521@Evangelische Kirchengemeinde Buchen (Odenwald)
DTSTAMP:20260424T152410Z
CATEGORIES:Gottesdienste
DESCRIPTION:Gottesdienst\nKategorie: Gottesdienste\nICS-Link: https://www.e
 vkibu.de/index.php?option=com_jem&view=event&id=521:gottesdienst\n
DTSTART;TZID=Europe/Berlin:20260531T103000
DTEND;TZID=Europe/Berlin:20260531T103000
LOCATION:Christuskirche Buchen\,Am Rühlingshof 3\,74722 Buchen\,Germany
SUMMARY:Gottesdienst
URL:https://www.evkibu.de/index.php?option=com_jem&view=event&id=521:gottes
 dienst
END:VEVENT
BEGIN:VEVENT
UID:event522@Evangelische Kirchengemeinde Buchen (Odenwald)
DTSTAMP:20260424T152410Z
CATEGORIES:Gottesdienste
DESCRIPTION:Gottesdienst m. Abendmahl\nKategorie: Gottesdienste\nICS-Link: 
 https://www.evkibu.de/index.php?option=com_jem&view=event&id=522:gottesdie
 nst-m-abendmahl\n
DTSTART;TZID=Europe/Berlin:20260607T103000
DTEND;TZID=Europe/Berlin:20260607T103000
LOCATION:Christuskirche Buchen\,Am Rühlingshof 3\,74722 Buchen\,Germany
SUMMARY:Gottesdienst m. Abendmahl
URL:https://www.evkibu.de/index.php?option=com_jem&view=event&id=522:gottes
 dienst-m-abendmahl
END:VEVENT
BEGIN:VEVENT
UID:event523@Evangelische Kirchengemeinde Buchen (Odenwald)
DTSTAMP:20260424T152410Z
CATEGORIES:Gottesdienste
DESCRIPTION:Gottesdienst\nKategorie: Gottesdienste\nICS-Link: https://www.e
 vkibu.de/index.php?option=com_jem&view=event&id=523:gottesdienst\n
DTSTART;TZID=Europe/Berlin:20260614T103000
DTEND;TZID=Europe/Berlin:20260614T103000
LOCATION:Christuskirche Buchen\,Am Rühlingshof 3\,74722 Buchen\,Germany
SUMMARY:Gottesdienst
URL:https://www.evkibu.de/index.php?option=com_jem&view=event&id=523:gottes
 dienst
END:VEVENT
BEGIN:VEVENT
UID:event524@Evangelische Kirchengemeinde Buchen (Odenwald)
DTSTAMP:20260424T152410Z
CATEGORIES:Gottesdienste
DESCRIPTION:Ökumen. Gottesdienst z. Vorsommerfest\nKategorie: Gottesdienste
 \nICS-Link: https://www.evkibu.de/index.php?option=com_jem&view=event&id=5
 24:ökumen-gottesdienst-z-vorsommerfest\n
DTSTART;VALUE=DATE:20260621
DTEND;VALUE=DATE:20260622
SUMMARY:Ökumen. Gottesdienst z. Vorsommerfest
END:VEVENT
BEGIN:VEVENT
UID:event525@Evangelische Kirchengemeinde Buchen (Odenwald)
DTSTAMP:20260424T152410Z
CATEGORIES:Gottesdienste
DESCRIPTION:Gemeindefest m. Taufe\nKategorie: Gottesdienste\nICS-Link: http
 s://www.evkibu.de/index.php?option=com_jem&view=event&id=525:gemeindefest-
 m-taufe\n
DTSTART;TZID=Europe/Berlin:20260627T140000
DTEND;TZID=Europe/Berlin:20260627T140000
LOCATION:Gemeindehaus der Christuskirche
SUMMARY:Gemeindefest m. Taufe
URL:https://www.evkibu.de/index.php?option=com_jem&view=event&id=525:gemein
 defest-m-taufe
END:VEVENT
BEGIN:VEVENT
UID:event526@Evangelische Kirchengemeinde Buchen (Odenwald)
DTSTAMP:20260424T152410Z
CATEGORIES:Gottesdienste
DESCRIPTION:Gottesdienst m. Abendmahl\nKategorie: Gottesdienste\nICS-Link: 
 https://www.evkibu.de/index.php?option=com_jem&view=event&id=526:gottesdie
 nst-m-abendmahl\n
DTSTART;TZID=Europe/Berlin:20260705T103000
DTEND;TZID=Europe/Berlin:20260705T103000
LOCATION:Christuskirche Buchen\,Am Rühlingshof 3\,74722 Buchen\,Germany
SUMMARY:Gottesdienst m. Abendmahl
URL:https://www.evkibu.de/index.php?option=com_jem&view=event&id=526:gottes
 dienst-m-abendmahl
END:VEVENT
BEGIN:VEVENT
UID:event527@Evangelische Kirchengemeinde Buchen (Odenwald)
DTSTAMP:20260424T152410Z
CATEGORIES:Gottesdienste
DESCRIPTION:Gottesdienst\nKategorie: Gottesdienste\nICS-Link: https://www.e
 vkibu.de/index.php?option=com_jem&view=event&id=527:gottesdienst\n
DTSTART;TZID=Europe/Berlin:20260712T103000
DTEND;TZID=Europe/Berlin:20260712T103000
LOCATION:Christuskirche Buchen\,Am Rühlingshof 3\,74722 Buchen\,Germany
SUMMARY:Gottesdienst
URL:https://www.evkibu.de/index.php?option=com_jem&view=event&id=527:gottes
 dienst
END:VEVENT
BEGIN:VEVENT
UID:event499@Evangelische Kirchengemeinde Buchen (Odenwald)
DTSTAMP:20260424T152410Z
CATEGORIES:Zwergengottesdienst
DESCRIPTION:Familiengottesdienst mit Mila Maus\nKategorie: Zwergengottesdie
 nst\nICS-Link: https://www.evkibu.de/index.php?option=com_jem&view=event&i
 d=499:familiengottesdienst-mit-mila-maus\n
DTSTART;TZID=Europe/Berlin:20260718T110000
DTEND;TZID=Europe/Berlin:20260718T110000
LOCATION:Christuskirche Buchen\,Am Rühlingshof 3\,74722 Buchen\,Germany
SUMMARY:Familiengottesdienst mit Mila Maus
URL:https://www.evkibu.de/index.php?option=com_jem&view=event&id=499:famili
 engottesdienst-mit-mila-maus
END:VEVENT
BEGIN:VEVENT
UID:event528@Evangelische Kirchengemeinde Buchen (Odenwald)
DTSTAMP:20260424T152410Z
CATEGORIES:Gottesdienste
DESCRIPTION:Gottesdienst\nKategorie: Gottesdienste\nICS-Link: https://www.e
 vkibu.de/index.php?option=com_jem&view=event&id=528:gottesdienst\n
DTSTART;TZID=Europe/Berlin:20260719T103000
DTEND;TZID=Europe/Berlin:20260719T103000
LOCATION:Christuskirche Buchen\,Am Rühlingshof 3\,74722 Buchen\,Germany
SUMMARY:Gottesdienst
URL:https://www.evkibu.de/index.php?option=com_jem&view=event&id=528:gottes
 dienst
END:VEVENT
BEGIN:VEVENT
UID:event529@Evangelische Kirchengemeinde Buchen (Odenwald)
DTSTAMP:20260424T152410Z
CATEGORIES:Gottesdienste
DESCRIPTION:Gottesdienst\nKategorie: Gottesdienste\nICS-Link: https://www.e
 vkibu.de/index.php?option=com_jem&view=event&id=529:gottesdienst\n
DTSTART;TZID=Europe/Berlin:20260726T103000
DTEND;TZID=Europe/Berlin:20260726T103000
LOCATION:Christuskirche Buchen\,Am Rühlingshof 3\,74722 Buchen\,Germany
SUMMARY:Gottesdienst
URL:https://www.evkibu.de/index.php?option=com_jem&view=event&id=529:gottes
 dienst
END:VEVENT
BEGIN:VEVENT
UID:event530@Evangelische Kirchengemeinde Buchen (Odenwald)
DTSTAMP:20260424T152410Z
CATEGORIES:Gottesdienste
DESCRIPTION:Gottesdienst\nKategorie: Gottesdienste\nICS-Link: https://www.e
 vkibu.de/index.php?option=com_jem&view=event&id=530:gottesdienst\n
DTSTART;TZID=Europe/Berlin:20260802T103000
DTEND;TZID=Europe/Berlin:20260802T103000
LOCATION:Christuskirche Buchen\,Am Rühlingshof 3\,74722 Buchen\,Germany
SUMMARY:Gottesdienst
URL:https://www.evkibu.de/index.php?option=com_jem&view=event&id=530:gottes
 dienst
END:VEVENT
BEGIN:VEVENT
UID:event531@Evangelische Kirchengemeinde Buchen (Odenwald)
DTSTAMP:20260424T152410Z
CATEGORIES:Gottesdienste
DESCRIPTION:Gottesdienst\nKategorie: Gottesdienste\nICS-Link: https://www.e
 vkibu.de/index.php?option=com_jem&view=event&id=531:gottesdienst\n
DTSTART;TZID=Europe/Berlin:20260809T103000
DTEND;TZID=Europe/Berlin:20260809T103000
LOCATION:Christuskirche Buchen\,Am Rühlingshof 3\,74722 Buchen\,Germany
SUMMARY:Gottesdienst
URL:https://www.evkibu.de/index.php?option=com_jem&view=event&id=531:gottes
 dienst
END:VEVENT
BEGIN:VEVENT
UID:event532@Evangelische Kirchengemeinde Buchen (Odenwald)
DTSTAMP:20260424T152410Z
CATEGORIES:Gottesdienste
DESCRIPTION:Gottesdienst\nKategorie: Gottesdienste\nICS-Link: https://www.e
 vkibu.de/index.php?option=com_jem&view=event&id=532:gottesdienst\n
DTSTART;TZID=Europe/Berlin:20260816T103000
DTEND;TZID=Europe/Berlin:20260816T103000
LOCATION:Christuskirche Buchen\,Am Rühlingshof 3\,74722 Buchen\,Germany
SUMMARY:Gottesdienst
URL:https://www.evkibu.de/index.php?option=com_jem&view=event&id=532:gottes
 dienst
END:VEVENT
BEGIN:VEVENT
UID:event533@Evangelische Kirchengemeinde Buchen (Odenwald)
DTSTAMP:20260424T152410Z
CATEGORIES:Gottesdienste
DESCRIPTION:Gottesdienst\nKategorie: Gottesdienste\nICS-Link: https://www.e
 vkibu.de/index.php?option=com_jem&view=event&id=533:gottesdienst\n
DTSTART;TZID=Europe/Berlin:20260823T103000
DTEND;TZID=Europe/Berlin:20260823T103000
LOCATION:Christuskirche Buchen\,Am Rühlingshof 3\,74722 Buchen\,Germany
SUMMARY:Gottesdienst
URL:https://www.evkibu.de/index.php?option=com_jem&view=event&id=533:gottes
 dienst
END:VEVENT
BEGIN:VEVENT
UID:event534@Evangelische Kirchengemeinde Buchen (Odenwald)
DTSTAMP:20260424T152410Z
CATEGORIES:Gottesdienste
DESCRIPTION:Gottesdienst\nKategorie: Gottesdienste\nICS-Link: https://www.e
 vkibu.de/index.php?option=com_jem&view=event&id=534:gottesdienst\n
DTSTART;TZID=Europe/Berlin:20260830T103000
DTEND;TZID=Europe/Berlin:20260830T103000
LOCATION:Christuskirche Buchen\,Am Rühlingshof 3\,74722 Buchen\,Germany
SUMMARY:Gottesdienst
URL:https://www.evkibu.de/index.php?option=com_jem&view=event&id=534:gottes
 dienst
END:VEVENT
BEGIN:VEVENT
UID:event535@Evangelische Kirchengemeinde Buchen (Odenwald)
DTSTAMP:20260424T152410Z
CATEGORIES:Gottesdienste
DESCRIPTION:Jubelkonfirm. m. Abendmahl\nKategorie: Gottesdienste\nICS-Link:
  https://www.evkibu.de/index.php?option=com_jem&view=event&id=535:jubelkon
 firm-m-abendmahl\n
DTSTART;TZID=Europe/Berlin:20260913T103000
DTEND;TZID=Europe/Berlin:20260913T103000
LOCATION:Christuskirche Buchen\,Am Rühlingshof 3\,74722 Buchen\,Germany
SUMMARY:Jubelkonfirm. m. Abendmahl
URL:https://www.evkibu.de/index.php?option=com_jem&view=event&id=535:jubelk
 onfirm-m-abendmahl
END:VEVENT
BEGIN:VEVENT
UID:event536@Evangelische Kirchengemeinde Buchen (Odenwald)
DTSTAMP:20260424T152410Z
CATEGORIES:Gottesdienste
DESCRIPTION:Einschulungsgottesdienst\nKategorie: Gottesdienste\nICS-Link: h
 ttps://www.evkibu.de/index.php?option=com_jem&view=event&id=536:einschulun
 gsgottesdienst\n
DTSTART;TZID=Europe/Berlin:20260920T103000
DTEND;TZID=Europe/Berlin:20260920T103000
LOCATION:Christuskirche Buchen\,Am Rühlingshof 3\,74722 Buchen\,Germany
SUMMARY:Einschulungsgottesdienst
URL:https://www.evkibu.de/index.php?option=com_jem&view=event&id=536:einsch
 ulungsgottesdienst
END:VEVENT
BEGIN:VEVENT
UID:event537@Evangelische Kirchengemeinde Buchen (Odenwald)
DTSTAMP:20260424T152410Z
CATEGORIES:Gottesdienste
DESCRIPTION:Gottesdienst\nKategorie: Gottesdienste\nICS-Link: https://www.e
 vkibu.de/index.php?option=com_jem&view=event&id=537:gottesdienst\n
DTSTART;TZID=Europe/Berlin:20260927T103000
DTEND;TZID=Europe/Berlin:20260927T103000
LOCATION:Christuskirche Buchen\,Am Rühlingshof 3\,74722 Buchen\,Germany
SUMMARY:Gottesdienst
URL:https://www.evkibu.de/index.php?option=com_jem&view=event&id=537:gottes
 dienst
END:VEVENT
BEGIN:VEVENT
UID:event538@Evangelische Kirchengemeinde Buchen (Odenwald)
DTSTAMP:20260424T152410Z
CATEGORIES:Gottesdienste
DESCRIPTION:Erntedankgottesdienst m. Kindergarten\nKategorie: Gottesdienste
 \nICS-Link: https://www.evkibu.de/index.php?option=com_jem&view=event&id=5
 38:erntedankgottesdienst-m-kindergarten\n
DTSTART;TZID=Europe/Berlin:20261004T103000
DTEND;TZID=Europe/Berlin:20261004T103000
LOCATION:Christuskirche Buchen\,Am Rühlingshof 3\,74722 Buchen\,Germany
SUMMARY:Erntedankgottesdienst m. Kindergarten
URL:https://www.evkibu.de/index.php?option=com_jem&view=event&id=538:ernted
 ankgottesdienst-m-kindergarten
END:VEVENT
BEGIN:VEVENT
UID:event539@Evangelische Kirchengemeinde Buchen (Odenwald)
DTSTAMP:20260424T152410Z
CATEGORIES:Gottesdienste
DESCRIPTION:Gottesdienst\nKategorie: Gottesdienste\nICS-Link: https://www.e
 vkibu.de/index.php?option=com_jem&view=event&id=539:gottesdienst\n
DTSTART;TZID=Europe/Berlin:20261011T103000
DTEND;TZID=Europe/Berlin:20261011T103000
LOCATION:Christuskirche Buchen\,Am Rühlingshof 3\,74722 Buchen\,Germany
SUMMARY:Gottesdienst
URL:https://www.evkibu.de/index.php?option=com_jem&view=event&id=539:gottes
 dienst
END:VEVENT
BEGIN:VEVENT
UID:event540@Evangelische Kirchengemeinde Buchen (Odenwald)
DTSTAMP:20260424T152410Z
CATEGORIES:Gottesdienste
DESCRIPTION:Gottesdienst\nKategorie: Gottesdienste\nICS-Link: https://www.e
 vkibu.de/index.php?option=com_jem&view=event&id=540:gottesdienst\n
DTSTART;TZID=Europe/Berlin:20261018T103000
DTEND;TZID=Europe/Berlin:20261018T103000
LOCATION:Christuskirche Buchen\,Am Rühlingshof 3\,74722 Buchen\,Germany
SUMMARY:Gottesdienst
URL:https://www.evkibu.de/index.php?option=com_jem&view=event&id=540:gottes
 dienst
END:VEVENT
BEGIN:VEVENT
UID:event541@Evangelische Kirchengemeinde Buchen (Odenwald)
DTSTAMP:20260424T152410Z
CATEGORIES:Gottesdienste
DESCRIPTION:Gottesdienst\nKategorie: Gottesdienste\nICS-Link: https://www.e
 vkibu.de/index.php?option=com_jem&view=event&id=541:gottesdienst\n
DTSTART;TZID=Europe/Berlin:20261025T103000
DTEND;TZID=Europe/Berlin:20261025T103000
LOCATION:Christuskirche Buchen\,Am Rühlingshof 3\,74722 Buchen\,Germany
SUMMARY:Gottesdienst
URL:https://www.evkibu.de/index.php?option=com_jem&view=event&id=541:gottes
 dienst
END:VEVENT
BEGIN:VEVENT
UID:event500@Evangelische Kirchengemeinde Buchen (Odenwald)
DTSTAMP:20260424T152410Z
CATEGORIES:Zwergengottesdienst
DESCRIPTION:Familiengottesdienst mit Mila Maus\nKategorie: Zwergengottesdie
 nst\nICS-Link: https://www.evkibu.de/index.php?option=com_jem&view=event&i
 d=500:familiengottesdienst-mit-mila-maus\n
DTSTART;TZID=Europe/Berlin:20261107T110000
DTEND;TZID=Europe/Berlin:20261107T110000
LOCATION:Christuskirche Buchen\,Am Rühlingshof 3\,74722 Buchen\,Germany
SUMMARY:Familiengottesdienst mit Mila Maus
URL:https://www.evkibu.de/index.php?option=com_jem&view=event&id=500:famili
 engottesdienst-mit-mila-maus
END:VEVENT
BEGIN:VEVENT
UID:event501@Evangelische Kirchengemeinde Buchen (Odenwald)
DTSTAMP:20260424T152410Z
CATEGORIES:Zwergengottesdienst
DESCRIPTION:Familiengottesdienst mit Mila Maus\nKategorie: Zwergengottesdie
 nst\nICS-Link: https://www.evkibu.de/index.php?option=com_jem&view=event&i
 d=501:familiengottesdienst-mit-mila-maus\n
DTSTART;TZID=Europe/Berlin:20261205T110000
DTEND;TZID=Europe/Berlin:20261205T110000
LOCATION:Christuskirche Buchen\,Am Rühlingshof 3\,74722 Buchen\,Germany
SUMMARY:Familiengottesdienst mit Mila Maus
URL:https://www.evkibu.de/index.php?option=com_jem&view=event&id=501:famili
 engottesdienst-mit-mila-maus
END:VEVENT
END:VCALENDAR
